BEGIN:VCALENDAR
VERSION:2.0
PRODID:-//Cross of Life Lutheran Church - ECPv6.15.20//NONSGML v1.0//EN
CALSCALE:GREGORIAN
METHOD:PUBLISH
X-ORIGINAL-URL:https://crossoflifelutheran.org
X-WR-CALDESC:Events for Cross of Life Lutheran Church
REFRESH-INTERVAL;VALUE=DURATION:PT1H
X-Robots-Tag:noindex
X-PUBLISHED-TTL:PT1H
BEGIN:VTIMEZONE
TZID:America/New_York
BEGIN:DAYLIGHT
TZOFFSETFROM:-0500
TZOFFSETTO:-0400
TZNAME:EDT
DTSTART:20240310T070000
END:DAYLIGHT
BEGIN:STANDARD
TZOFFSETFROM:-0400
TZOFFSETTO:-0500
TZNAME:EST
DTSTART:20241103T060000
END:STANDARD
BEGIN:DAYLIGHT
TZOFFSETFROM:-0500
TZOFFSETTO:-0400
TZNAME:EDT
DTSTART:20250309T070000
END:DAYLIGHT
BEGIN:STANDARD
TZOFFSETFROM:-0400
TZOFFSETTO:-0500
TZNAME:EST
DTSTART:20251102T060000
END:STANDARD
BEGIN:DAYLIGHT
TZOFFSETFROM:-0500
TZOFFSETTO:-0400
TZNAME:EDT
DTSTART:20260308T070000
END:DAYLIGHT
BEGIN:STANDARD
TZOFFSETFROM:-0400
TZOFFSETTO:-0500
TZNAME:EST
DTSTART:20261101T060000
END:STANDARD
END:VTIMEZONE
BEGIN:VEVENT
DTSTART;TZID=America/New_York:20251220T150000
DTEND;TZID=America/New_York:20251220T161500
DTSTAMP:20260422T051605
CREATED:20250929T165307Z
LAST-MODIFIED:20250929T180608Z
UID:10000236-1766242800-1766247300@crossoflifelutheran.org
SUMMARY:A Swingin' Christmas
DESCRIPTION:Join us for a joyful afternoon of swingin’ Christmas music featuring Roswell’s own Joe Gransden on Saturday\, December 20 at 3pm. Joe and his Little Big Band will share a mix of holiday classics and church favorites like “Holly Jolly Christmas” and “Away in a Manger.” Enjoy Joe’s jazzy Sinatra sound and sing along with your Christmas favorites at this festive concert! \nSATURDAY\, DECEMBER 20\, 2025\nShow 3pm | Doors open 2pm | General admission seating\nCross of Life Lutheran Church | 1000 Hembree Rd\, Roswell GA 30076\n$40 per ticket on Zeffy \nBuy tickets\n \n\nThere is parking in front of the church and accessible parking is available near the doors. An ADA accessible bathroom is available. \nAll proceeds raised go to building the church’s organ repair fund.
URL:https://crossoflifelutheran.org/event/a-swingin-christmas/
CATEGORIES:Event,Holiday,Music
ATTACH;FMTTYPE=image/png:https://crossoflifelutheran.org/wp-content/uploads/2025/09/Gransden-concert-web.png
END:VEVENT
BEGIN:VEVENT
DTSTART;TZID=America/New_York:20251217T173000
DTEND;TZID=America/New_York:20251217T190000
DTSTAMP:20260422T051605
CREATED:20251130T121324Z
LAST-MODIFIED:20251130T121324Z
UID:10000242-1765992600-1765998000@crossoflifelutheran.org
SUMMARY:Midweek Advent Worship
DESCRIPTION:You are invited to gather for dinner and worship each Wednesday evening during Advent. \n\nDecember 3\, 10\, and 17\nDinner at 5:30PM and Holden Evening Prayer at 6:15PM\nDinner is free and all are welcome\n\nThis year we will take a closer look at how to be an Apprentice to Jesus – someone who learns from the Master by observing\, helping\, then doing. “Practicing the Way” by Pastor John Mark Comer will be used as a backdrop. There is no requirement to purchase\, but on Wednesday evenings we will only get a glimpse into this highly impactful book. \nThis series will be followed by a 2026 Lenten series based on Comer’s book entitled “The Ruthless Elimination of Hurry” which will include numerous opportunities for small group studies.
URL:https://crossoflifelutheran.org/event/midweek-advent-worship/2025-12-17/
CATEGORIES:Adult,Children,Family,Fellowship,Worship,Youth
ATTACH;FMTTYPE=image/png:https://crossoflifelutheran.org/wp-content/uploads/2025/11/Advent-1903-x-990-px.png
END:VEVENT
BEGIN:VEVENT
DTSTART;TZID=America/New_York:20251216T180000
DTEND;TZID=America/New_York:20251216T203000
DTSTAMP:20260422T051605
CREATED:20251208T192707Z
LAST-MODIFIED:20251216T205029Z
UID:10000210-1765908000-1765917000@crossoflifelutheran.org
SUMMARY:Book Club
DESCRIPTION:Join the Cross of Life book club on Tuesday\, December 16 at 6:30 pm (online) to discuss Small Things Like These by Claire Keegan. Please note that this is a time and location change from other book club gatherings. The group will meet off site at the home of the club leader but there will first be a short discussion of the book on Zoom for people who cannot attend in person. \nFrom Amazon: \nIt is 1985 in a small Irish town. During the weeks leading up to Christmas\, Bill Furlong\, a coal merchant and family man faces into his busiest season. Early one morning\, while delivering an order to the local convent\, Bill makes a discovery which forces him to confront both his past and the complicit silences of a town controlled by the church. \nAn international bestseller\, Small Things Like These is a deeply affecting story of hope\, quiet heroism\, and empathy from one of our most critically lauded and iconic writers.
URL:https://crossoflifelutheran.org/event/book-club-6/
CATEGORIES:Adult,Fellowship,Meeting
ATTACH;FMTTYPE=image/png:https://crossoflifelutheran.org/wp-content/uploads/2025/07/book-club.png
END:VEVENT
BEGIN:VEVENT
DTSTART;TZID=America/New_York:20251214T160000
DTEND;TZID=America/New_York:20251214T190000
DTSTAMP:20260422T051605
CREATED:20251031T144541Z
LAST-MODIFIED:20251206T191619Z
UID:10000121-1765728000-1765738800@crossoflifelutheran.org
SUMMARY:Christmas Festival and Market
DESCRIPTION:You’re invited to the 5th annual Christmas Festival and Market on Sunday\, December 14th\, from 4PM to 7PM — rain or shine! Enjoy a festive afternoon with free bounce houses\, a petting zoo\, yard games\, craft booths\, and delicious treats like cocoa\, cider\, cookies\, s’mores\, and popcorn. Explore the Christmas Market\, featuring local vendors offering unique holiday gifts to purchase. Help give back to the community by participating in pop-up service projects that take just a few minutes. And don’t miss free pictures with Santa from 4PM to 7PM. Bring your family\, friends\, and holiday spirit—we can’t wait to celebrate with you! \nDon’t miss the free Christmas concert from 3PM – 3:45PM\, featuring Cross of Life musicians and North Atlanta Talent Education (NATE)! \nChristmas Market vendors: Thank you for your interest\, but applications are no longer being accepted for the market. Vendor info is here.
URL:https://crossoflifelutheran.org/event/christmas-festival-and-market/
CATEGORIES:Adult,Children,Event,Family,Fellowship,Holiday,Youth
ATTACH;FMTTYPE=image/png:https://crossoflifelutheran.org/wp-content/uploads/2025/10/Christmas-Festival-2025.png
END:VEVENT
BEGIN:VEVENT
DTSTART;TZID=America/New_York:20251210T173000
DTEND;TZID=America/New_York:20251210T190000
DTSTAMP:20260422T051605
CREATED:20251130T121324Z
LAST-MODIFIED:20251130T121324Z
UID:10000241-1765387800-1765393200@crossoflifelutheran.org
SUMMARY:Midweek Advent Worship
DESCRIPTION:You are invited to gather for dinner and worship each Wednesday evening during Advent. \n\nDecember 3\, 10\, and 17\nDinner at 5:30PM and Holden Evening Prayer at 6:15PM\nDinner is free and all are welcome\n\nThis year we will take a closer look at how to be an Apprentice to Jesus – someone who learns from the Master by observing\, helping\, then doing. “Practicing the Way” by Pastor John Mark Comer will be used as a backdrop. There is no requirement to purchase\, but on Wednesday evenings we will only get a glimpse into this highly impactful book. \nThis series will be followed by a 2026 Lenten series based on Comer’s book entitled “The Ruthless Elimination of Hurry” which will include numerous opportunities for small group studies.
URL:https://crossoflifelutheran.org/event/midweek-advent-worship/2025-12-10/
CATEGORIES:Adult,Children,Family,Fellowship,Worship,Youth
ATTACH;FMTTYPE=image/png:https://crossoflifelutheran.org/wp-content/uploads/2025/11/Advent-1903-x-990-px.png
END:VEVENT
BEGIN:VEVENT
DTSTART;TZID=America/New_York:20251203T173000
DTEND;TZID=America/New_York:20251203T190000
DTSTAMP:20260422T051605
CREATED:20251130T121324Z
LAST-MODIFIED:20251130T121324Z
UID:10000240-1764783000-1764788400@crossoflifelutheran.org
SUMMARY:Midweek Advent Worship
DESCRIPTION:You are invited to gather for dinner and worship each Wednesday evening during Advent. \n\nDecember 3\, 10\, and 17\nDinner at 5:30PM and Holden Evening Prayer at 6:15PM\nDinner is free and all are welcome\n\nThis year we will take a closer look at how to be an Apprentice to Jesus – someone who learns from the Master by observing\, helping\, then doing. “Practicing the Way” by Pastor John Mark Comer will be used as a backdrop. There is no requirement to purchase\, but on Wednesday evenings we will only get a glimpse into this highly impactful book. \nThis series will be followed by a 2026 Lenten series based on Comer’s book entitled “The Ruthless Elimination of Hurry” which will include numerous opportunities for small group studies.
URL:https://crossoflifelutheran.org/event/midweek-advent-worship/2025-12-03/
CATEGORIES:Adult,Children,Family,Fellowship,Worship,Youth
ATTACH;FMTTYPE=image/png:https://crossoflifelutheran.org/wp-content/uploads/2025/11/Advent-1903-x-990-px.png
END:VEVENT
BEGIN:VEVENT
DTSTART;TZID=America/New_York:20251028T190000
DTEND;TZID=America/New_York:20251028T203000
DTSTAMP:20260422T051605
CREATED:20250916T003214Z
LAST-MODIFIED:20250916T003606Z
UID:10000231-1761678000-1761683400@crossoflifelutheran.org
SUMMARY:What Lutherans Believe Class
DESCRIPTION:Our senior pastor\, Pastor Terri\, is teaching a class on What Lutherans Believe. The class offers an overview of the Christian faith from a Lutheran perspective. Topics will include the Trinity\, the creeds\, salvation\, interpretation of scripture\, worship practices\, Luther\, and Lutheran Church history. The class is open to anyone. Prospective members taking the class will join the congregation on November 9. \nThe class runs October 7\, 14\, 21\, and 28 at 7pm. Contact Pastor Terri to let her know you’re coming or use the form below. \n\n\n  \n\n\n\n Your name\n \n \n Your email\n \n \n Subject\n \n \n Your message (optional)\n \n \n\n Δ
URL:https://crossoflifelutheran.org/event/what-lutherans-believe-class-2/2025-10-28/
CATEGORIES:Adult,Christian Education,Meeting
ATTACH;FMTTYPE=image/png:https://crossoflifelutheran.org/wp-content/uploads/2025/04/What-Lutherans-Believe-website.png
END:VEVENT
BEGIN:VEVENT
DTSTART;TZID=America/New_York:20251026T160000
DTEND;TZID=America/New_York:20251026T180000
DTSTAMP:20260422T051605
CREATED:20251013T222551Z
LAST-MODIFIED:20251013T222319Z
UID:10000119-1761494400-1761501600@crossoflifelutheran.org
SUMMARY:Trunk & Treat
DESCRIPTION:Join in the fun at Cross of Life’s Trunk & Treat on October 26 from 4pm – 6pm! 1000 Hembree Rd\, Roswell GA 30076 \n\nTrunk & Treat\nChili Cook-off\nGames and a Bounce House\n\nPlease RSVP below or on our Facebook event page and share to your own page to help us spread the word! \nItinerary for the evening \n\n3:45pm – 4:15pm: Cars arrive to begin setting up for Trunk-or-Treat\n4:00pm – 5:00pm: Minute-to-win-it games and bounce house set up and ready to go\n4:15pm – 4:50pm: Trunk-or-Treating begins\n5:00pm – 6:00pm: Chili Cook-Off Begins\n\nTrunk-or-Treat details \n\nSet up between 3:45pm – 4:15pm (area will be roped off at 4:15pm)\nChildren will go through at 4:30pm\nLocal businesses and nonprofits are welcome to participate!\n\nRules for Participating \n\nCars must arrive by 4:15pm to participate\nNo scary trunk displays or costumes allowed\nAll car trunks and treats will be inspected before the event begins\nAn adult must be with the vehicle throughout the event\nTeams are welcome!\nSign-ups must be completed by Friday\, October 24th\n\nClick here to sign up to register your car \nChili Cook-Off \n\nBring your pot of chili for judging (prepared ahead of time – no cooking on-site)\nInclude a list of ingredients to be mindful of people’s allergies\nPrizes for spiciest\, best all-around\, and people’s choice\n\nRules for Participating \n\nA minimum of 1 gallon of made from scratch chili must be cooked\, ready to eat\, and ready to be judged.\nChili must be prepared in a sanitary manner and must be kept at a minimum of 140 degrees and covered with a lid when not serving.\nAll ingredients must be edible and readily purchased at a major grocery store and contestants must provide a list of ingredients on display at the table.\nContestants should be willing/able to sample his/her own chili.\nEach contestant will be assigned a contestant number for anonymous judging.\nContestants must agree to the terms that the public will be consuming the chili at the event.\nChili may be brought to the church as early as 3pm but no later than 4pm.\nTeams are welcome!\nSign-ups must be completed by Friday\, October 24th.\n\nPlease click here to register to make chili.
URL:https://crossoflifelutheran.org/event/trunk-or-treat/
CATEGORIES:Adult,Children,Event,Family,Fellowship,Meeting,Youth
ATTACH;FMTTYPE=image/png:https://crossoflifelutheran.org/wp-content/uploads/2024/10/Trunk-treat-web.png
END:VEVENT
BEGIN:VEVENT
DTSTART;TZID=America/New_York:20251026T100000
DTEND;TZID=America/New_York:20251026T110000
DTSTAMP:20260422T051605
CREATED:20250916T000809Z
LAST-MODIFIED:20251014T190234Z
UID:10000214-1761472800-1761476400@crossoflifelutheran.org
SUMMARY:Community Breakfast
DESCRIPTION:You’re invited to join us for a free pancake breakfast on Sunday\, October 26 at 10am! All are welcome to worship at the contemporary service before the breakfast at 9am or at the traditional service after the breakfast at 11:15am (in-person and online). We look forward to talking with you! \nCross of Life Lutheran Church: 1000 Hembree Rd.\, Roswell GA 30076
URL:https://crossoflifelutheran.org/event/community-breakfast-4/
CATEGORIES:Adult,Children,Event,Family,Fellowship,Youth
ATTACH;FMTTYPE=image/png:https://crossoflifelutheran.org/wp-content/uploads/2025/09/pancake-breakfast.png
END:VEVENT
BEGIN:VEVENT
DTSTART;TZID=America/New_York:20251021T190000
DTEND;TZID=America/New_York:20251021T203000
DTSTAMP:20260422T051605
CREATED:20250916T003214Z
LAST-MODIFIED:20250916T003606Z
UID:10000230-1761073200-1761078600@crossoflifelutheran.org
SUMMARY:What Lutherans Believe Class
DESCRIPTION:Our senior pastor\, Pastor Terri\, is teaching a class on What Lutherans Believe. The class offers an overview of the Christian faith from a Lutheran perspective. Topics will include the Trinity\, the creeds\, salvation\, interpretation of scripture\, worship practices\, Luther\, and Lutheran Church history. The class is open to anyone. Prospective members taking the class will join the congregation on November 9. \nThe class runs October 7\, 14\, 21\, and 28 at 7pm. Contact Pastor Terri to let her know you’re coming or use the form below. \n\n\n  \n\n\n\n Your name\n \n \n Your email\n \n \n Subject\n \n \n Your message (optional)\n \n \n\n Δ
URL:https://crossoflifelutheran.org/event/what-lutherans-believe-class-2/2025-10-21/
CATEGORIES:Adult,Christian Education,Meeting
ATTACH;FMTTYPE=image/png:https://crossoflifelutheran.org/wp-content/uploads/2025/04/What-Lutherans-Believe-website.png
END:VEVENT
BEGIN:VEVENT
DTSTART;TZID=America/New_York:20251018T090000
DTEND;TZID=America/New_York:20251018T140000
DTSTAMP:20260422T051605
CREATED:20250303T151916Z
LAST-MODIFIED:20251016T163622Z
UID:10000137-1760778000-1760796000@crossoflifelutheran.org
SUMMARY:Women's Gathering
DESCRIPTION:Join us at the church for a deep dive into the Bible\, fellowship\, and worship. This gathering will be led by Be Fitzpatrick\, who creates small group and devotional content. The gathering will start with coffee and pastries at 9am and teaching and discussion will begin at 9:30am. Lunch will be provided and the gathering will end with worship. (Registration is now closed.) \n  \n  \n 
URL:https://crossoflifelutheran.org/event/womens-gathering/
CATEGORIES:Adult,Christian Education,Event,Fellowship,Worship
ATTACH;FMTTYPE=image/png:https://crossoflifelutheran.org/wp-content/uploads/2025/03/Womens-Gathering-fall-2025-1903-x-990-px.png
END:VEVENT
BEGIN:VEVENT
DTSTART;TZID=America/New_York:20251014T190000
DTEND;TZID=America/New_York:20251014T203000
DTSTAMP:20260422T051605
CREATED:20250916T003214Z
LAST-MODIFIED:20250916T003606Z
UID:10000235-1760468400-1760473800@crossoflifelutheran.org
SUMMARY:What Lutherans Believe Class
DESCRIPTION:Our senior pastor\, Pastor Terri\, is teaching a class on What Lutherans Believe. The class offers an overview of the Christian faith from a Lutheran perspective. Topics will include the Trinity\, the creeds\, salvation\, interpretation of scripture\, worship practices\, Luther\, and Lutheran Church history. The class is open to anyone. Prospective members taking the class will join the congregation on November 9. \nThe class runs October 7\, 14\, 21\, and 28 at 7pm. Contact Pastor Terri to let her know you’re coming or use the form below. \n\n\n  \n\n\n\n Your name\n \n \n Your email\n \n \n Subject\n \n \n Your message (optional)\n \n \n\n Δ
URL:https://crossoflifelutheran.org/event/what-lutherans-believe-class-2/2025-10-14/
CATEGORIES:Adult,Christian Education,Meeting
ATTACH;FMTTYPE=image/png:https://crossoflifelutheran.org/wp-content/uploads/2025/04/What-Lutherans-Believe-website.png
END:VEVENT
BEGIN:VEVENT
DTSTART;TZID=America/New_York:20251007T190000
DTEND;TZID=America/New_York:20251007T203000
DTSTAMP:20260422T051605
CREATED:20250916T003214Z
LAST-MODIFIED:20250916T003606Z
UID:10000234-1759863600-1759869000@crossoflifelutheran.org
SUMMARY:What Lutherans Believe Class
DESCRIPTION:Our senior pastor\, Pastor Terri\, is teaching a class on What Lutherans Believe. The class offers an overview of the Christian faith from a Lutheran perspective. Topics will include the Trinity\, the creeds\, salvation\, interpretation of scripture\, worship practices\, Luther\, and Lutheran Church history. The class is open to anyone. Prospective members taking the class will join the congregation on November 9. \nThe class runs October 7\, 14\, 21\, and 28 at 7pm. Contact Pastor Terri to let her know you’re coming or use the form below. \n\n\n  \n\n\n\n Your name\n \n \n Your email\n \n \n Subject\n \n \n Your message (optional)\n \n \n\n Δ
URL:https://crossoflifelutheran.org/event/what-lutherans-believe-class-2/2025-10-07/
CATEGORIES:Adult,Christian Education,Meeting
ATTACH;FMTTYPE=image/png:https://crossoflifelutheran.org/wp-content/uploads/2025/04/What-Lutherans-Believe-website.png
END:VEVENT
BEGIN:VEVENT
DTSTART;TZID=America/New_York:20251005T160000
DTEND;TZID=America/New_York:20251005T173000
DTSTAMP:20260422T051605
CREATED:20241006T200022Z
LAST-MODIFIED:20251004T151531Z
UID:10000011-1759680000-1759685400@crossoflifelutheran.org
SUMMARY:Pet Blessing
DESCRIPTION:In honor of the feast day of St. Francis of Assisi\, we will have our annual pet blessing on the front lawn of our church. The event will feature a short service celebrating all of God’s creation\, a prayer over our pets and people who work with animals\, and a recognition of all our beloved pets that we have lost along the way. This year we will also have free pet photos\, raffle prizes\, and treats for owners and pets alike. See this Facebook event for details. We look forward to seeing you and your pets!
URL:https://crossoflifelutheran.org/event/pet-blessing/
CATEGORIES:Event
ATTACH;FMTTYPE=image/png:https://crossoflifelutheran.org/wp-content/uploads/2024/10/Pet-Blessing-web.png
END:VEVENT
BEGIN:VEVENT
DTSTART;TZID=America/New_York:20250920T080000
DTEND;TZID=America/New_York:20250920T100000
DTSTAMP:20260422T051605
CREATED:20250915T235038Z
LAST-MODIFIED:20250915T235038Z
UID:10000212-1758355200-1758362400@crossoflifelutheran.org
SUMMARY:Rivers Alive!: Roswell River Clean-Up
DESCRIPTION:This Saturday is the 34th Rivers Alive! Cleanup: Litter pickup\, storm drain marking\, and non-native\, invasive plant removal projects are all available. Project sites may include Riverside Park\, Waller Park\, Dotsie Garner Mills Park\, Don White Memorial Park\, Seven Branches\, and sections of Big Creek\, Foe Killer Creek\, and Hog Waller Creek. Clean ups are family friendly\, but ages 5 and up\, please. THIS IS SOMETHING WHERE YOU CAN COME LATE/LEAVE EARLY We can’t wait for you to join us! Contact Roel for more information using the form below. \n\n\n  \n\n\n\n Your name\n \n \n Your email\n \n \n Subject\n \n \n Your message (optional)\n \n \n\n Δ
URL:https://crossoflifelutheran.org/event/rivers-alive-roswell-river-clean-up/
CATEGORIES:Adult,Children,Family,Service,Volunteer,Youth
ATTACH;FMTTYPE=image/png:https://crossoflifelutheran.org/wp-content/uploads/2025/09/river-CLEAN-UP.png
END:VEVENT
BEGIN:VEVENT
DTSTART;TZID=America/New_York:20250920T080000
DTEND;TZID=America/New_York:20250920T100000
DTSTAMP:20260422T051605
CREATED:20250915T201819Z
LAST-MODIFIED:20250915T201819Z
UID:10000211-1758355200-1758362400@crossoflifelutheran.org
SUMMARY:Feed the Homeless
DESCRIPTION:“Feed the Homeless Day” arrives on September 20th at 8am. COL will join other Lutheran churches to provide food and supplies for about 300 people with homes at a park in Atlanta. At COL we have promised to donate the coffee\, toiletries\, underwear\, men’s shoes\, and wheeled suitcases/backpacks. Please help us with cash donations\, clothing\, etc.. Bring donated items to the bin in the Fellowship Hall before the 20th and mark your cash donations for “Homeless.” If you can join us from 8:00 am to 10:00 am that morning\, please contact the church office.
URL:https://crossoflifelutheran.org/event/feed-the-homeless/
CATEGORIES:Service,Volunteer
ATTACH;FMTTYPE=image/png:https://crossoflifelutheran.org/wp-content/uploads/2025/09/Feed-the-Homeless-Day-1903-x-990-px.png
END:VEVENT
BEGIN:VEVENT
DTSTART;TZID=America/New_York:20250803T100000
DTEND;TZID=America/New_York:20250803T140000
DTSTAMP:20260422T051605
CREATED:20240731T155325Z
LAST-MODIFIED:20250726T134422Z
UID:10000114-1754215200-1754229600@crossoflifelutheran.org
SUMMARY:Back-to-School Bash
DESCRIPTION:Sunday\, August 3 is our Back-to-School Bash with fun for the whole family and all ages! See below for all of the details\, but please note that there will be one worship service at 10:00 AM\, both in-person and online.  We look forward to connecting with you and getting the new school year kicked off with loads of prayers! \n10:00AM – One worship service with Backpack Blessing for all ages\n11:30AM – Lunch and activities start \nLunch will be a potluck with chicken provided by Cozy Coop in Roswell (Thank you!).\n\nPotluck / Bounce House / Face Painting / Service Project / Karaoke / Cards / Cake Walk / Snow Cones / Popcorn / Mario Kart / Yard Games
URL:https://crossoflifelutheran.org/event/back-to-school-bash/
CATEGORIES:Adult,Children,Christian Education,Event,Family,Fellowship,Music,Worship,Youth
ATTACH;FMTTYPE=image/png:https://crossoflifelutheran.org/wp-content/uploads/2024/07/website-BASH-2025-1.png
END:VEVENT
BEGIN:VEVENT
DTSTART;VALUE=DATE:20250528
DTEND;VALUE=DATE:20250601
DTSTAMP:20260422T051605
CREATED:20250411T185436Z
LAST-MODIFIED:20250411T185436Z
UID:10000194-1748390400-1748735999@crossoflifelutheran.org
SUMMARY:Hurricane Helene Mission Trip
DESCRIPTION:Volunteers are needed to help our neighbors in North Carolina recover from the impact of the hurricane. Housing will be provided at LutherRock. Contact the office for details or use the form below. \n\n\n  \n\n\n\n Your name\n \n \n Your email\n \n \n Subject\n \n \n Your message (optional)\n \n \n\n Δ
URL:https://crossoflifelutheran.org/event/hurricane-helene-mission-trip/
CATEGORIES:Adult,Service,Volunteer
ATTACH;FMTTYPE=image/png:https://crossoflifelutheran.org/wp-content/uploads/2025/04/Hurricane-Helene-Mission-Trip-website-1.png
END:VEVENT
BEGIN:VEVENT
DTSTART;TZID=America/New_York:20250518T111500
DTEND;TZID=America/New_York:20250518T123000
DTSTAMP:20260422T051605
CREATED:20250411T191755Z
LAST-MODIFIED:20250411T191854Z
UID:10000200-1747566900-1747571400@crossoflifelutheran.org
SUMMARY:New Members
DESCRIPTION:Cross of Life will be receiving new members on May 18 at the 11:15am service. If you are interested in joining the congregation\,  please let Pastor Terri know or use the form below. \n\n\n  \n\n\n\n Your name\n \n \n Your email\n \n \n Subject\n \n \n Your message (optional)\n \n \n\n Δ
URL:https://crossoflifelutheran.org/event/new-members/
CATEGORIES:Adult,Family,Meeting,Youth
ATTACH;FMTTYPE=image/png:https://crossoflifelutheran.org/wp-content/uploads/2025/04/New-Members-website.png
END:VEVENT
BEGIN:VEVENT
DTSTART;TZID=America/New_York:20250420T100000
DTEND;TZID=America/New_York:20250420T110000
DTSTAMP:20260422T051605
CREATED:20250410T203300Z
LAST-MODIFIED:20250410T203300Z
UID:10000189-1745143200-1745146800@crossoflifelutheran.org
SUMMARY:Easter Egg Hunt
DESCRIPTION:Bring your basket! You’re invited to an Easter egg hunt on Easter Sunday\, April 20 beginning around 10 – 10:10am! Families will gather in Gathering Room B for a telling of the Easter story then children are divided into age groups for the hunt. Each child will receive a goody bag at the end. We look forward to seeing you! \nOur Easter worship services will be at 9am (contemporary) and 11:15am (traditional) and all are welcome.
URL:https://crossoflifelutheran.org/event/easter-egg-hunt/
CATEGORIES:Children,Christian Education,Event,Family,Holiday,Youth
ATTACH;FMTTYPE=image/png:https://crossoflifelutheran.org/wp-content/uploads/2025/04/easter-egg-hunt-web.png
END:VEVENT
BEGIN:VEVENT
DTSTART;VALUE=DATE:20250419
DTEND;VALUE=DATE:20250420
DTSTAMP:20260422T051605
CREATED:20250411T182341Z
LAST-MODIFIED:20250411T182341Z
UID:10000192-1745020800-1745107199@crossoflifelutheran.org
SUMMARY:Habitat Build
DESCRIPTION:In conjunction with Lutheran Coalitiion for Habitat\, Cross of Life is in charge of landscaping and our designated work day is Saturday\, April 19. We currently have a full contingent of volunteers\, but contact the church office or use the form below if you’d like to join the group. \n\n\n  \n\n\n\n Your name\n \n \n Your email\n \n \n Subject\n \n \n Your message (optional)\n \n \n\n Δ
URL:https://crossoflifelutheran.org/event/habitat-build/
CATEGORIES:Adult,Service,Volunteer
ATTACH;FMTTYPE=image/png:https://crossoflifelutheran.org/wp-content/uploads/2025/04/Habitat-build-website-1.png
END:VEVENT
BEGIN:VEVENT
DTSTART;TZID=America/New_York:20250309T120000
DTEND;TZID=America/New_York:20250309T160000
DTSTAMP:20260422T051605
CREATED:20250307T161042Z
LAST-MODIFIED:20250307T161042Z
UID:10000140-1741521600-1741536000@crossoflifelutheran.org
SUMMARY:Hunger Walk
DESCRIPTION:For more than 40 years\, thousands of people of various backgrounds and cultures have joined together to end hunger in our community — one step at a time. Walkers and runners participate in this 5K event that benefits local hunger relief organizations that support hundreds of food pantries\, shelters\, community kitchens\, senior centers\, and childcare centers across metro Atlanta and north Georgia. \n\nClick here to register to walk/run or to donate on behalf of the Cross of Life team!
URL:https://crossoflifelutheran.org/event/hunger-walk-2/
CATEGORIES:Event,Volunteer
ATTACH;FMTTYPE=image/png:https://crossoflifelutheran.org/wp-content/uploads/2024/01/web-Hunger-Walk-2025.png
END:VEVENT
END:VCALENDAR